BEGIN:VCALENDAR
VERSION:2.0
PRODID:-//hi goose shoppe - ECPv6.15.20//NONSGML v1.0//EN
CALSCALE:GREGORIAN
METHOD:PUBLISH
X-WR-CALNAME:hi goose shoppe
X-ORIGINAL-URL:https://higoosevintage.com
X-WR-CALDESC:Events for hi goose shoppe
REFRESH-INTERVAL;VALUE=DURATION:PT1H
X-Robots-Tag:noindex
X-PUBLISHED-TTL:PT1H
BEGIN:VTIMEZONE
TZID:UTC
BEGIN:STANDARD
TZOFFSETFROM:+0000
TZOFFSETTO:+0000
TZNAME:UTC
DTSTART:20230101T000000
END:STANDARD
END:VTIMEZONE
BEGIN:VEVENT
DTSTART;TZID=UTC:20240817T110000
DTEND;TZID=UTC:20240817T180000
DTSTAMP:20260425T005603
CREATED:20240726T204757Z
LAST-MODIFIED:20240726T204757Z
UID:1059-1723892400-1723917600@higoosevintage.com
SUMMARY:hi goose studio - super summer sale!
DESCRIPTION:Welcome to Hi Goose Studio‘s Super Summer Sale event! Get ready for a weekend filled with amazing deals and discounts on all your favorite items. \n\n70% off special summer racks\nBuy one\, get one 1/2 off everything in store\n\nJoin us in person at our studio for this exciting sale from 11am-6pm on Saturday\, August 17th and Sunday\, August 18th\, where you can find everything you need for a stylish summer\, vintage style! Don’t miss out on this opportunity to snag some fantastic bargains at our half-yearly sale. See you there!
URL:https://higoosevintage.com/event/hi-goose-studio-super-summer-sale/
LOCATION:Hi Goose Studio\, 188 Avenue B\, Bayonne\, NJ
CATEGORIES:Open Studio - Vintage & Pre-Loved Clothing Sale
ATTACH;FMTTYPE=image/png:https://higoosevintage.com/wp-content/uploads/2024/07/HGS-Super-Summer-Sale-Instagram-Post-Instagram-Post.png
END:VEVENT
END:VCALENDAR